﻿BEGIN:VCALENDAR
VERSION:2.0
PRODID:-//FVR - ECPv6.0.11//NONSGML v1.0//EN
CALSCALE:GREGORIAN
METHOD:PUBLISH
X-ORIGINAL-URL:https://retraites-vaudois.ch
X-WR-CALDESC:Évènements pour FVR
REFRESH-INTERVAL;VALUE=DURATION:PT1H
X-Robots-Tag:noindex
X-PUBLISHED-TTL:PT1H
BEGIN:VTIMEZONE
TZID:UTC
BEGIN:STANDARD
TZOFFSETFROM:+0000
TZOFFSETTO:+0000
TZNAME:UTC
DTSTART:20240101T000000
END:STANDARD
END:VTIMEZONE
BEGIN:VEVENT
DTSTART;VALUE=DATE:20241114
DTEND;VALUE=DATE:20241115
DTSTAMP:20260420T125712
CREATED:20241111T091241Z
LAST-MODIFIED:20241111T091658Z
UID:25562-1731542400-1731628799@retraites-vaudois.ch
SUMMARY:Conférence d'automne
DESCRIPTION:Le comité de la section « Gros-de-Vaud » a le plaisir de convier ses membres pour la 25ème Assemblée générale ordinaire. 						\n				\n				\n				\n					\n			\n		\n				\n				\n				\n				\n			Plus d'informations
URL:https://retraites-vaudois.ch/event/conference-dautomne/
LOCATION:Les Alizés\, Ruelle Vautier 5\, Yverdon-les-Bains\, VD\, 1400\, Suisse
CATEGORIES:Jura-Nord vaudois
ATTACH;FMTTYPE=image/jpeg:https://retraites-vaudois.ch/wp-content/uploads/2023/12/FVR-image-jura-nord_vaudois-actualite.jpg
END:VEVENT
BEGIN:VEVENT
DTSTART;VALUE=DATE:20241122
DTEND;VALUE=DATE:20241123
DTSTAMP:20260420T125713
CREATED:20241003T084559Z
LAST-MODIFIED:20241003T090115Z
UID:25423-1732233600-1732319999@retraites-vaudois.ch
SUMMARY:La mémoire un trésor à entretenir
DESCRIPTION:Le comité de la section « Gros-de-Vaud » a le plaisir de convier ses membres pour la 25ème Assemblée générale ordinaire. 						\n				\n				\n				\n					\n			\n		\n				\n				\n				\n				\n			Plus d'informations
URL:https://retraites-vaudois.ch/event/la-memoire-un-tresor-a-entretenir/
LOCATION:L’Escale\, Rue du Léman 7\, La Tour-de-Peilz\, 1814
CATEGORIES:Lavaux-Oron-Riviera-Aigle
ATTACH;FMTTYPE=image/jpeg:https://retraites-vaudois.ch/wp-content/uploads/2020/04/FVR-visuel-actus__0003_lora.jpg
END:VEVENT
END:VCALENDAR