﻿BEGIN:VCALENDAR
VERSION:2.0
PRODID:-//FVR - ECPv6.0.11//NONSGML v1.0//EN
CALSCALE:GREGORIAN
METHOD:PUBLISH
X-ORIGINAL-URL:https://retraites-vaudois.ch
X-WR-CALDESC:Évènements pour FVR
REFRESH-INTERVAL;VALUE=DURATION:PT1H
X-Robots-Tag:noindex
X-PUBLISHED-TTL:PT1H
BEGIN:VTIMEZONE
TZID:UTC
BEGIN:STANDARD
TZOFFSETFROM:+0000
TZOFFSETTO:+0000
TZNAME:UTC
DTSTART:20240101T000000
END:STANDARD
END:VTIMEZONE
BEGIN:VEVENT
DTSTART;VALUE=DATE:20240425
DTEND;VALUE=DATE:20240426
DTSTAMP:20260423T004909
CREATED:20240322T143339Z
LAST-MODIFIED:20240322T165805Z
UID:25158-1714003200-1714089599@retraites-vaudois.ch
SUMMARY:Invitation à l’assemblée générale
DESCRIPTION:Le comité de la section « Gros-de-Vaud » a le plaisir de convier ses membres pour la 25ème Assemblée générale ordinaire. 						\n				\n				\n				\n					\n			\n		\n				\n				\n				\n				\n			Plus d'informations
URL:https://retraites-vaudois.ch/event/invitation-a-lassemblee-generale/
LOCATION:La Ferme du Manoir Salle 1\, Place du Château 1\, Nyon\, VD\, 1260
CATEGORIES:La Côte
ATTACH;FMTTYPE=image/jpeg:https://retraites-vaudois.ch/wp-content/uploads/2020/04/FVR-visuel-actus__0004_cote.jpg
END:VEVENT
END:VCALENDAR