﻿BEGIN:VCALENDAR
VERSION:2.0
PRODID:-//FVR - ECPv6.0.11//NONSGML v1.0//EN
CALSCALE:GREGORIAN
METHOD:PUBLISH
X-ORIGINAL-URL:https://retraites-vaudois.ch
X-WR-CALDESC:Évènements pour FVR
REFRESH-INTERVAL;VALUE=DURATION:PT1H
X-Robots-Tag:noindex
X-PUBLISHED-TTL:PT1H
BEGIN:VTIMEZONE
TZID:UTC
BEGIN:STANDARD
TZOFFSETFROM:+0000
TZOFFSETTO:+0000
TZNAME:UTC
DTSTART:20230101T000000
END:STANDARD
END:VTIMEZONE
BEGIN:VEVENT
DTSTART;VALUE=DATE:20230912
DTEND;VALUE=DATE:20230913
DTSTAMP:20260423T172337
CREATED:20230928T082409Z
LAST-MODIFIED:20231012T130652Z
UID:22939-1694476800-1694563199@retraites-vaudois.ch
SUMMARY:Sortie récréative des seniors
DESCRIPTION:Le comité de la section « Gros-de-Vaud » a le plaisir de convier ses membres pour la 25ème Assemblée générale ordinaire. 						\n				\n				\n				\n					\n			\n		\n				\n				\n				\n				\n			Plus d'informations
URL:https://retraites-vaudois.ch/event/sortie-recreative-des-seniors/
LOCATION:Pontarlier\, France
CATEGORIES:Gros-de-Vaud
ATTACH;FMTTYPE=image/jpeg:https://retraites-vaudois.ch/wp-content/uploads/2023/09/DSC_0007-scaled.jpg
END:VEVENT
BEGIN:VEVENT
DTSTART;VALUE=DATE:20230922
DTEND;VALUE=DATE:20230923
DTSTAMP:20260423T172338
CREATED:20231012T195259Z
LAST-MODIFIED:20231012T195556Z
UID:23927-1695340800-1695427199@retraites-vaudois.ch
SUMMARY:Sortie à Frutigen
DESCRIPTION:Le comité de la section « Gros-de-Vaud » a le plaisir de convier ses membres pour la 25ème Assemblée générale ordinaire. 						\n				\n				\n				\n					\n			\n		\n				\n				\n				\n				\n			Plus d'informations
URL:https://retraites-vaudois.ch/event/sortie-a-frutigen/
LOCATION:Frutigen\, BE\, 3714\, Suisse
CATEGORIES:Lausanne et environs
ATTACH;FMTTYPE=image/jpeg:https://retraites-vaudois.ch/wp-content/uploads/2023/10/Image1-2.jpg
END:VEVENT
END:VCALENDAR