﻿BEGIN:VCALENDAR
VERSION:2.0
PRODID:-//FVR - ECPv6.0.11//NONSGML v1.0//EN
CALSCALE:GREGORIAN
METHOD:PUBLISH
X-WR-CALNAME:FVR
X-ORIGINAL-URL:https://retraites-vaudois.ch
X-WR-CALDESC:Évènements pour FVR
REFRESH-INTERVAL;VALUE=DURATION:PT1H
X-Robots-Tag:noindex
X-PUBLISHED-TTL:PT1H
BEGIN:VTIMEZONE
TZID:UTC
BEGIN:STANDARD
TZOFFSETFROM:+0000
TZOFFSETTO:+0000
TZNAME:UTC
DTSTART:20230101T000000
END:STANDARD
END:VTIMEZONE
BEGIN:VEVENT
DTSTART;VALUE=DATE:20230504
DTEND;VALUE=DATE:20230505
DTSTAMP:20260423T192528
CREATED:20231006T080101Z
LAST-MODIFIED:20231012T150511Z
UID:23181-1683158400-1683244799@retraites-vaudois.ch
SUMMARY:Assemblée générale de la section FVR
DESCRIPTION:Conférence "La mémoire un trésor à entretenir"		\n				\n				\n				\n					\n			\n		\n				\n				\n					\n		\n							\n		\n				\n						\n					\n			\n								\n				\n							Monsieur le Docteur Krauss\, neurologue FMH en médecine interne et gériatrie et chef de clinique au Centre Mémoire de l’Est-Vaudois\, nous parlera de la mémoire qui nous préoccupe tous mais particulièrement nous\, les seniors.Existe-t-il des moyens pour préserver cette mémoire si précieuse? 						\n				\n				\n				\n					\n			\n		\n				\n				\n				\n				\n			Plus d'informations
URL:https://retraites-vaudois.ch/event/assemblee-generale-de-la-section-fvr/
LOCATION:Vevey\, VD\, 1800\, Suisse
CATEGORIES:Lavaux-Oron-Riviera-Aigle
ATTACH;FMTTYPE=image/jpeg:https://retraites-vaudois.ch/wp-content/uploads/2023/10/photo.jpg
END:VEVENT
END:VCALENDAR