﻿BEGIN:VCALENDAR
VERSION:2.0
PRODID:-//FVR - ECPv6.0.11//NONSGML v1.0//EN
CALSCALE:GREGORIAN
METHOD:PUBLISH
X-WR-CALNAME:FVR
X-ORIGINAL-URL:https://retraites-vaudois.ch
X-WR-CALDESC:Évènements pour FVR
REFRESH-INTERVAL;VALUE=DURATION:PT1H
X-Robots-Tag:noindex
X-PUBLISHED-TTL:PT1H
BEGIN:VTIMEZONE
TZID:UTC
BEGIN:STANDARD
TZOFFSETFROM:+0000
TZOFFSETTO:+0000
TZNAME:UTC
DTSTART:20240101T000000
END:STANDARD
END:VTIMEZONE
BEGIN:VEVENT
DTSTART;VALUE=DATE:20240904
DTEND;VALUE=DATE:20240905
DTSTAMP:20260423T091505
CREATED:20240402T140234Z
LAST-MODIFIED:20240402T141228Z
UID:25197-1725408000-1725494399@retraites-vaudois.ch
SUMMARY:La tête et les jambes
DESCRIPTION:
URL:https://retraites-vaudois.ch/event/la-tete-et-les-jambes-3/
CATEGORIES:Broye-Vully
ATTACH;FMTTYPE=image/jpeg:https://retraites-vaudois.ch/wp-content/uploads/2020/04/FVR-visuel-actus__0005_broye-vully.jpg
END:VEVENT
END:VCALENDAR