﻿BEGIN:VCALENDAR
VERSION:2.0
PRODID:-//FVR - ECPv6.0.11//NONSGML v1.0//EN
CALSCALE:GREGORIAN
METHOD:PUBLISH
X-ORIGINAL-URL:https://retraites-vaudois.ch
X-WR-CALDESC:Évènements pour FVR
REFRESH-INTERVAL;VALUE=DURATION:PT1H
X-Robots-Tag:noindex
X-PUBLISHED-TTL:PT1H
BEGIN:VTIMEZONE
TZID:UTC
BEGIN:STANDARD
TZOFFSETFROM:+0000
TZOFFSETTO:+0000
TZNAME:UTC
DTSTART:20240101T000000
END:STANDARD
END:VTIMEZONE
BEGIN:VEVENT
DTSTART;VALUE=DATE:20241030
DTEND;VALUE=DATE:20241031
DTSTAMP:20260420T143037
CREATED:20240909T075146Z
LAST-MODIFIED:20240909T083207Z
UID:25365-1730246400-1730332799@retraites-vaudois.ch
SUMMARY:Conférence sur La vie et l'oeuvre du peintre Eugène Burnand
DESCRIPTION:Le comité de la section « Gros-de-Vaud » a le plaisir de convier ses membres pour la 25ème Assemblée générale ordinaire. 						\n				\n				\n				\n					\n			\n		\n				\n				\n				\n				\n			Plus d'informations
URL:https://retraites-vaudois.ch/event/conference-sur-la-vie-et-loeuvre-du-peintre-eugene-burnand/
LOCATION:Echallens\, VD\, 1040\, Suisse
CATEGORIES:Gros-de-Vaud
ATTACH;FMTTYPE=image/jpeg:https://retraites-vaudois.ch/wp-content/uploads/2020/04/FVR-visuel-actus__0000_gros-de-vaud.jpg
END:VEVENT
END:VCALENDAR