﻿BEGIN:VCALENDAR
VERSION:2.0
PRODID:-//FVR - ECPv6.0.11//NONSGML v1.0//EN
CALSCALE:GREGORIAN
METHOD:PUBLISH
X-WR-CALNAME:FVR
X-ORIGINAL-URL:https://retraites-vaudois.ch
X-WR-CALDESC:Évènements pour FVR
REFRESH-INTERVAL;VALUE=DURATION:PT1H
X-Robots-Tag:noindex
X-PUBLISHED-TTL:PT1H
BEGIN:VTIMEZONE
TZID:UTC
BEGIN:STANDARD
TZOFFSETFROM:+0000
TZOFFSETTO:+0000
TZNAME:UTC
DTSTART:20230101T000000
END:STANDARD
END:VTIMEZONE
BEGIN:VEVENT
DTSTART;VALUE=DATE:20230831
DTEND;VALUE=DATE:20230901
DTSTAMP:20260423T202738
CREATED:20231004T092421Z
LAST-MODIFIED:20231012T205148Z
UID:23126-1693440000-1693526399@retraites-vaudois.ch
SUMMARY:Course familière 2023
DESCRIPTION:Le comité de la section « Gros-de-Vaud » a le plaisir de convier ses membres pour la 25ème Assemblée générale ordinaire. 						\n				\n				\n				\n					\n			\n		\n				\n				\n				\n				\n			Plus d'informations
URL:https://retraites-vaudois.ch/event/course-familiere-2023/
LOCATION:Salève\, Auvergne-Rhône-Alpes
CATEGORIES:Jura-Nord vaudois
ATTACH;FMTTYPE=image/jpeg:https://retraites-vaudois.ch/wp-content/uploads/2023/10/image-31.08.23.jpg
END:VEVENT
END:VCALENDAR